BEGIN:VCALENDAR
VERSION:2.0
PRODID:-//eventon.com NONSGML v1.0//EN
CALSCALE:GREGORIAN
METHOD:PUBLISH
BEGIN:VEVENT
UID:69ecd742997d4
DTSTAMP:20260425T150122Z
DTSTART:20160820
DTEND:20160821
LOCATION:
SUMMARY:Namaste Gothenburg\,  Indian Cultural Festival
DESCRIPTION:Namaste is an ancient Sanskrit greeting that means “I bow to 
 you” or “the spirit within me salutes the spirit within you.” We’ve
  dedicated May 21 to doing just that: saluting the creative spirit of India
  in its dizzying breadth of cultures\,  religions\,  ethnic groups and lang
 uages. The spirit of[..]\nhttps://indiaunlimited.se/events/namaste-gothenbu
 rg-indian-cultural-festival/
URL:https://indiaunlimited.se/events/namaste-gothenburg-indian-cultural-festival/
END:VEVENT
END:VCALENDAR