BEGIN:VCALENDAR
VERSION:2.0
PRODID:-//eventon.com NONSGML v1.0//EN
CALSCALE:GREGORIAN
METHOD:PUBLISH
BEGIN:VEVENT
UID:69ecd7a281ab3
DTSTAMP:20260425T150258Z
DTSTART:20160520T110000Z
DTEND:20160520T140000Z
LOCATION:
SUMMARY:Travel India & Sweden\,  Seminar
DESCRIPTION:India is an increasingly popular travel destination—more and 
 more are Swedes are headed there each year. We invite you to a seminar that
  will take you on a journey to India through its food\,  dance\,  music\,  
 films and literature as well as its people and beautiful landscapes. We’l
 l shed light[..]\nhttps://indiaunlimited.se/events/travel-india-sweden-semi
 nar/
URL:https://indiaunlimited.se/events/travel-india-sweden-seminar/
END:VEVENT
END:VCALENDAR