BEGIN:VCALENDAR
VERSION:2.0
PRODID:-//eventon.com NONSGML v1.0//EN
CALSCALE:GREGORIAN
METHOD:PUBLISH
BEGIN:VEVENT
UID:69ecd7efc89e7
DTSTAMP:20260425T150415Z
DTSTART:20160503T140000Z
DTEND:20160503T153000Z
LOCATION:
SUMMARY:Digital India & Innovation\,  roundtable
DESCRIPTION:The Digital India program was launched to complement the govern
 ment’s flagship manufacturing thrust\,  Make in India. Digital India seek
 s to transform India into a connected economy. It is envisaged to be an eff
 ective tool not only to boost electronics manufacturing and to achieve econ
 omic goals but also to provide clean[..]\nhttps://indiaunlimited.se/events/
 digital-india-innovation/
URL:https://indiaunlimited.se/events/digital-india-innovation/
END:VEVENT
END:VCALENDAR