BEGIN:VCALENDAR
VERSION:2.0
PRODID:-//eventon.com NONSGML v1.0//EN
CALSCALE:GREGORIAN
METHOD:PUBLISH
BEGIN:VEVENT
UID:69ecd85758967
DTSTAMP:20260425T150559Z
DTSTART:20160503T100000Z
DTEND:20160503T113000Z
LOCATION:
SUMMARY:Life Science & Innovation\,  roundtable
DESCRIPTION:Sweden and India have a long tradition of cooperation in the fi
 eld of health and life sciences. From a cooperation based on development ai
 d\,  the collaboration has evolved to a more dynamic and mutually beneficia
 l alliance. Sweden has much to offer India when it comes to organizing heal
 thcare\,  for example[..]\nhttps://indiaunlimited.se/events/life-science-in
 novation-2/
URL:https://indiaunlimited.se/events/life-science-innovation-2/
END:VEVENT
END:VCALENDAR