BEGIN:VCALENDAR
VERSION:2.0
PRODID:-//eventon.com NONSGML v1.0//EN
CALSCALE:GREGORIAN
METHOD:PUBLISH
BEGIN:VEVENT
UID:69ecd8093d33e
DTSTAMP:20260425T150441Z
DTSTART:20160503T160000Z
DTEND:20160503T173000Z
LOCATION:
SUMMARY:Digital India
DESCRIPTION:The Digital India program was launched to complement the govern
 ment’s flagship manufacturing thrust Make in India. Digital India seeks t
 o transform India into a connected economy. It is envisaged to be an effect
 ive tool not only to boost electronics manufacturing and to achieve economi
 c goals but also to provide clean[..]\nhttps://indiaunlimited.se/events/dig
 ital-india/
URL:https://indiaunlimited.se/events/digital-india/
END:VEVENT
END:VCALENDAR