BEGIN:VCALENDAR
VERSION:2.0
PRODID:-//eventon.com NONSGML v1.0//EN
CALSCALE:GREGORIAN
METHOD:PUBLISH
BEGIN:VEVENT
UID:69ecd7a404ddc
DTSTAMP:20260425T150300Z
DTSTART:20160503T120000Z
DTEND:20160503T133000Z
LOCATION:
SUMMARY:Sustainable Textiles
DESCRIPTION:Today global value chains are built on sustainability. The next
  generation of textiles and materials will use innovative solutions that co
 mbine re-use and re-creation. What new possibilities and opportunities are 
 emerging in the sustainable textiles industry? Can Indian and Swedish globa
 l companies collaborate to become leaders in the innovative use[..]\nhttps:
 //indiaunlimited.se/events/sustainable-textiles/
URL:https://indiaunlimited.se/events/sustainable-textiles/
END:VEVENT
END:VCALENDAR