BEGIN:VCALENDAR
VERSION:2.0
PRODID:-//eventon.com NONSGML v1.0//EN
CALSCALE:GREGORIAN
METHOD:PUBLISH
BEGIN:VEVENT
UID:69ecd8949f717
DTSTAMP:20260425T150700Z
DTSTART:20160503T080000Z
DTEND:20160503T093000Z
LOCATION:
SUMMARY:Smart Cities
DESCRIPTION:New smart cities and industrial clusters are being developed in
  special industrial corridors. The 5 Industrial Corridors project is creati
 ng the much-needed industrial infrastructure required for investments in In
 dia. The project also aims to develop new greenfield manufacturing cities\,
   logistics hubs and residential townships along these corridors. India’s
  smart cities[..]\nhttps://indiaunlimited.se/events/smart-cities/
URL:https://indiaunlimited.se/events/smart-cities/
END:VEVENT
END:VCALENDAR