BEGIN:VCALENDAR
VERSION:2.0
PRODID:-//eventon.com NONSGML v1.0//EN
CALSCALE:GREGORIAN
METHOD:PUBLISH
BEGIN:VEVENT
UID:69ecd807b8417
DTSTAMP:20260425T150439Z
DTSTART:20160502T160000Z
DTEND:20160502T173000Z
LOCATION:
SUMMARY:Defense & Security\,  roundtable
DESCRIPTION:India is an attractive destination for the global defense indus
 try due to the country’s substantial defense requirements and its stage o
 f development in the domestic defense industry. At the same time the Swedis
 h defense industry\,  which has continuously evolved many cutting-edge tech
 nologies\,  is a relatively small player compared to the[..]\nhttps://india
 unlimited.se/events/defense-security/
URL:https://indiaunlimited.se/events/defense-security/
END:VEVENT
END:VCALENDAR