BEGIN:VCALENDAR
VERSION:2.0
PRODID:-//eventon.com NONSGML v1.0//EN
CALSCALE:GREGORIAN
METHOD:PUBLISH
BEGIN:VEVENT
UID:69ecd7f1d693d
DTSTAMP:20260425T150417Z
DTSTART:20160502T080000Z
DTEND:20160502T093000Z
LOCATION:
SUMMARY:Media & India\,  roundtable
DESCRIPTION:Motsvarar svenska mediers bevakning av Indien landets storlek o
 ch växande globala betydelse? Vilka ämnen skulle behöva belysas mer? Vil
 ka stereotyper upprepas? Vilka bra exempel finns att lära av? Har bilden a
 v Indien förändrats i takt med att det indiska samhället förändrats? V
 i kommer att diskutera arbetsförhållandena i Indien för utländska[..]\n
 https://indiaunlimited.se/events/media-india-by-invitation-only/
URL:https://indiaunlimited.se/events/media-india-by-invitation-only/
END:VEVENT
END:VCALENDAR