BEGIN:VCALENDAR
VERSION:2.0
PRODID:-//eventon.com NONSGML v1.0//EN
CALSCALE:GREGORIAN
METHOD:PUBLISH
BEGIN:VEVENT
UID:69ecd8929b2b2
DTSTAMP:20260425T150658Z
DTSTART:20160502T160000Z
DTEND:20160502T173000Z
LOCATION:
SUMMARY:Gender & Diversity
DESCRIPTION:Applying an inclusive approach\,  Indian companies have been fi
 nding success at managing religious\,  ethnic and regional diversity. Swede
 n itself has been a leader in gender parity\,  LGBT rights and opportunitie
 s for disabled people. Can we find ways to promote diverse leadership\,  di
 verse companies and diverse organizations by exchanging experiences between
 [..]\nhttps://indiaunlimited.se/events/gender-and-diversity/
URL:https://indiaunlimited.se/events/gender-and-diversity/
END:VEVENT
END:VCALENDAR