BEGIN:VCALENDAR
VERSION:2.0
PRODID:-//eventon.com NONSGML v1.0//EN
CALSCALE:GREGORIAN
METHOD:PUBLISH
BEGIN:VEVENT
UID:69ecd85e32483
DTSTAMP:20260425T150606Z
DTSTART:20160502T133000Z
DTEND:20160502T153000Z
LOCATION:
SUMMARY:Reimagining India 2030
DESCRIPTION:Even though the International Monetary Fund cut its growth outl
 ook for India for this fiscal year\,  the country is still on track to rema
 in the world’s fastest-growing large economy. The prediction for India’
 s GDP growth for the year ending March 31\,  2016 is 7.3%. However the fore
 cast for the following[..]\nhttps://indiaunlimited.se/events/reimagining-in
 dia/
URL:https://indiaunlimited.se/events/reimagining-india/
END:VEVENT
END:VCALENDAR