BEGIN:VCALENDAR
VERSION:2.0
PRODID:-//eventon.com NONSGML v1.0//EN
CALSCALE:GREGORIAN
METHOD:PUBLISH
BEGIN:VEVENT
UID:69ecd7c1c3c2c
DTSTAMP:20260425T150329Z
DTSTART:20160503T100000Z
DTEND:20160503T113000Z
LOCATION:
SUMMARY:Smart Manufacturing & Industrial Corridors
DESCRIPTION:Today the manufacturing process itself has to be smart\,  which
  means that precise decisions in the manufacturing process are more importa
 nt than ever. Using the correct data input a factory’s process time\,  or
 der scheduling\,  staffing and pricing can all be fully automated digitaliz
 ed. India has undertaken a massive project to[..]\nhttps://indiaunlimited.s
 e/events/smart-manufacturing-industrial-corridors/
URL:https://indiaunlimited.se/events/smart-manufacturing-industrial-corridors/
END:VEVENT
END:VCALENDAR