BEGIN:VCALENDAR
VERSION:2.0
PRODID:-//eventon.com NONSGML v1.0//EN
CALSCALE:GREGORIAN
METHOD:PUBLISH
BEGIN:VEVENT
UID:69ecd7f046827
DTSTAMP:20260425T150416Z
DTSTART:20160502T080000Z
DTEND:20160502T093000Z
LOCATION:
SUMMARY:Skill India
DESCRIPTION:The government of India has taken on the task of developing ski
 ll centers and knowledge hubs that encompass entire knowledge ecosystems. T
 his effort has been integral to ensuring the availability of skilled manpow
 er in the aim to fulfill the objectives of the Make in India initiative. In
  the same vein\, [..]\nhttps://indiaunlimited.se/events/skill-india/
URL:https://indiaunlimited.se/events/skill-india/
END:VEVENT
END:VCALENDAR