BEGIN:VCALENDAR
VERSION:2.0
PRODID:-//eventon.com NONSGML v1.0//EN
CALSCALE:GREGORIAN
METHOD:PUBLISH
BEGIN:VEVENT
UID:69ecd883d80c2
DTSTAMP:20260425T150643Z
DTSTART:20160422
DTEND:20160423
LOCATION:
SUMMARY:What is a Smart City - Hackathon
DESCRIPTION:This unique 24-hour hackathon will bring Swedish and Indian uni
 versity students together to rethink problems and inspire innovation in are
 as of common interest. The Hackathon will begin with a general presentation
  of the overarching event itself and suggest stimulating group work topicsâ
 €”from smart cities to connected citizens\,  from farming to[..]\nhttps://i
 ndiaunlimited.se/events/hackathon/
URL:https://indiaunlimited.se/events/hackathon/
END:VEVENT
END:VCALENDAR