BEGIN:VCALENDAR
VERSION:2.0
PRODID:-//eventon.com NONSGML v1.0//EN
CALSCALE:GREGORIAN
METHOD:PUBLISH
BEGIN:VEVENT
UID:69ecd75aced4a
DTSTAMP:20260425T150146Z
DTSTART:20160421
DTEND:20160422
LOCATION:
SUMMARY:Cinema Indian\,  Film Festival
DESCRIPTION:India Unlimited 2016 will kick off with its third Indian film f
 estival\,  Cinema Indian\,  running April 21–24\,  2016. This festival wi
 ll be held in the heart of Stockholm at SF Sture in cooperation with SF BIO
  and with support from the Indian National Film Development Corporation. Th
 e film program spans[..]\nhttps://indiaunlimited.se/events/cinema-indian-fi
 lm-festival/
URL:https://indiaunlimited.se/events/cinema-indian-film-festival/
END:VEVENT
END:VCALENDAR