BEGIN:VCALENDAR
VERSION:2.0
PRODID:-//eventon.com NONSGML v1.0//EN
CALSCALE:GREGORIAN
METHOD:PUBLISH
BEGIN:VEVENT
UID:69ecd89420cd1
DTSTAMP:20260425T150700Z
DTSTART:20150831
DTEND:20150901
LOCATION:
SUMMARY:The Indian Tiger: A Closeup : through the lens of Babi Nobis
DESCRIPTION:We will be privileged to see an incredible photo exhibition of 
 tigers photographed by Babi Nobis. He is a wildlife photographer based in K
 olkata\,  India. After 30 years on the safari in both Africa and India he h
 as put together an incredible collection called On Safari: the Tiger and th
 e[..]\nhttps://indiaunlimited.se/events/the-indian-tiger-a-closeup-through-
 the-lens-of-babi-nobis/
URL:https://indiaunlimited.se/events/the-indian-tiger-a-closeup-through-the-lens-of-babi-nobis/
END:VEVENT
END:VCALENDAR