BEGIN:VCALENDAR
VERSION:2.0
PRODID:-//eventon.com NONSGML v1.0//EN
CALSCALE:GREGORIAN
METHOD:PUBLISH
BEGIN:VEVENT
UID:69ecd7c24d6b9
DTSTAMP:20260425T150330Z
DTSTART:20150603T180000Z
DTEND:20150603T200000Z
LOCATION:
SUMMARY:Bollywood Night @ Världskulturmuseet
DESCRIPTION:Bollywood is taking over the Museum of World Culture for a nigh
 t! Discover India through a display of modern and classical dance by Anette
  Pooja\,  Avikk Parkour\,  and RANG\,  and a fashion show by designers from
  the National Institute of Fashion Technology in Mumbai. Come at six to e
 njoy a[..]\nhttps://indiaunlimited.se/events/bollywood-night-varldskulturmu
 seet/
URL:https://indiaunlimited.se/events/bollywood-night-varldskulturmuseet/
END:VEVENT
END:VCALENDAR