BEGIN:VCALENDAR
VERSION:2.0
PRODID:-//eventon.com NONSGML v1.0//EN
CALSCALE:GREGORIAN
METHOD:PUBLISH
BEGIN:VEVENT
UID:69ecd8815081b
DTSTAMP:20260425T150641Z
DTSTART:20150601T173000Z
DTEND:20150601T190000Z
LOCATION:
SUMMARY:The History of Mathematics â€“ Fermat to The Simpsons
DESCRIPTION:Simon Singh\,  one of the worldâ€™s leading popular science wri
 ters\,  discussesÂ the history of mathematics starting from his books Ferma
 tâ€™s Last Theorem\, Â The Code Book and The Simpsons and Their Mathematica
 l Secrets.Location: BÃ¶rssalen\,  The Swedish Academy.Entry from KÃ¤llargrÃ
 ¤nd and TrÃ¥ngsund 16:45â€“17:15.Free admission. Reserve a seat at: booknin
 g@nobelmuseum.se or 08-534 818 18.The Simpsons[..]\nhttps://indiaunlimited.
 se/events/the-history-of-mathematics-fermat-to-the-simpsons/
URL:https://indiaunlimited.se/events/the-history-of-mathematics-fermat-to-the-simpsons/
END:VEVENT
END:VCALENDAR