BEGIN:VCALENDAR
VERSION:2.0
PRODID:-//eventon.com NONSGML v1.0//EN
CALSCALE:GREGORIAN
METHOD:PUBLISH
BEGIN:VEVENT
UID:69ecd7a1ed26b
DTSTAMP:20260425T150257Z
DTSTART:20150601T110000Z
DTEND:20150601T120000Z
LOCATION:
SUMMARY:Local Waste to Local Fuel to Local Transport
DESCRIPTION:India understands it has a problem with pollution and is eager 
 to tackle this problem going forward. This is an important reasons for the 
 Indian Governments interest in Scania’s work on biofuels and sustainable 
 transport systems. Swedfund and Scania has now entered into a partnership t
 o produce biofuel from sludge[..]\nhttps://indiaunlimited.se/events/local-w
 aste-to-local-fuel-to-local-transport-by-invitation-only/
URL:https://indiaunlimited.se/events/local-waste-to-local-fuel-to-local-transport-by-invitation-only/
END:VEVENT
END:VCALENDAR