BEGIN:VCALENDAR
VERSION:2.0
PRODID:-//eventon.com NONSGML v1.0//EN
CALSCALE:GREGORIAN
METHOD:PUBLISH
BEGIN:VEVENT
UID:69ecd85caa9bb
DTSTAMP:20260425T150604Z
DTSTART:20150526T090000Z
DTEND:20150526T103000Z
LOCATION:
SUMMARY:How to use a distributor in India
DESCRIPTION:Business Sweden continuously monitor how Swedish companies are 
 working with their distributors in India. During 2014\,  they conducted a m
 ore in-depth study on swedish companies working through distributors. They 
 were asked how they set up the network\,  and how they are work to manage i
 t. The result shows some unique[..]\nhttps://indiaunlimited.se/events/how-t
 o-use-a-distributor-in-india-2/
URL:https://indiaunlimited.se/events/how-to-use-a-distributor-in-india-2/
END:VEVENT
END:VCALENDAR