BEGIN:VCALENDAR
VERSION:2.0
PRODID:-//eventon.com NONSGML v1.0//EN
CALSCALE:GREGORIAN
METHOD:PUBLISH
BEGIN:VEVENT
UID:69ecd7c158090
DTSTAMP:20260425T150329Z
DTSTART:20150521T180000Z
DTEND:20150521T200000Z
LOCATION:
SUMMARY:Design Night goes Indian by Pechakucha
DESCRIPTION:Eva Kumlin\,  CEO of Svensk Form and Form Magazine\,  will be h
 osting Design Night goes Indian\,  an informal and fun gathering of designe
 rs\,  photographers\,  and other creative minds. Pecha Kucha is a presentat
 ion style\,  in which 20 slides are shown for 20 seconds each. On this occa
 sion\,  Pecha Kucha will[..]\nhttps://indiaunlimited.se/events/design-night
 -goes-indian-by-pechakucha/
URL:https://indiaunlimited.se/events/design-night-goes-indian-by-pechakucha/
END:VEVENT
END:VCALENDAR