BEGIN:VCALENDAR
VERSION:2.0
PRODID:-//eventon.com NONSGML v1.0//EN
CALSCALE:GREGORIAN
METHOD:PUBLISH
BEGIN:VEVENT
UID:69ecd893252f6
DTSTAMP:20260425T150659Z
DTSTART:20150520
DTEND:20150521
LOCATION:
SUMMARY:INDIA PAST FORWARD
DESCRIPTION:With a selection of contemporary design objects\,  studio Desig
 n Temple\,  traces parallel inspirations from India’s past to display the
  ingenuity of this 5000–year-old civilization.The art of everyday life fr
 om India’s past highlights a synthesis of form\,  function and material t
 hat is embedded into the evolution of their design\,  over hundreds[..]\nht
 tps://indiaunlimited.se/events/design-exhibition/
URL:https://indiaunlimited.se/events/design-exhibition/
END:VEVENT
END:VCALENDAR