BEGIN:VCALENDAR
VERSION:2.0
PRODID:-//eventon.com NONSGML v1.0//EN
CALSCALE:GREGORIAN
METHOD:PUBLISH
BEGIN:VEVENT
UID:69ecd7ef1fb1a
DTSTAMP:20260425T150415Z
DTSTART:20150602T100000Z
DTEND:20150602T120000Z
LOCATION:
SUMMARY:INNOVATE\,  MAKE AND GROW WITH INDIA
DESCRIPTION:The majority led government lead by Prime Minister Modi is sett
 ing a new vision for India with exceptional development & growth\,  removal
  of poverty\,  boosting infrastructure\,  cleaning up India\,  digital Indi
 a. The new Make in India campaign will boost India’s manufacturing infras
 tructure and capacity for innovation and is poised for[..]\nhttps://indiaun
 limited.se/events/india-sweden-co-creating-a-brighter-future-together/
URL:https://indiaunlimited.se/events/india-sweden-co-creating-a-brighter-future-together/
END:VEVENT
END:VCALENDAR