BEGIN:VCALENDAR
VERSION:2.0
PRODID:-//eventon.com NONSGML v1.0//EN
CALSCALE:GREGORIAN
METHOD:PUBLISH
BEGIN:VEVENT
UID:69ecd7ab43c4b
DTSTAMP:20260425T150307Z
DTSTART:20150603T130000Z
DTEND:20150603T143000Z
LOCATION:
SUMMARY:Smart City: From waste to value (conference 2)
DESCRIPTION:Economical Growth is traditionally linked with increasing deman
 ds of energy and growing amounts of waste. The use of fossil fuels and enla
 rgement of landfills increases the climate change and have negative impact 
 on the environment. For maintaining economical growth in a long term perspe
 ctive the environmental impact must be recognized[..]\nhttps://indiaunlimit
 ed.se/events/smart-city-from-waste-to-value-conference-2/
URL:https://indiaunlimited.se/events/smart-city-from-waste-to-value-conference-2/
END:VEVENT
END:VCALENDAR