BEGIN:VCALENDAR
VERSION:2.0
PRODID:-//eventon.com NONSGML v1.0//EN
CALSCALE:GREGORIAN
METHOD:PUBLISH
BEGIN:VEVENT
UID:69ecd856663bf
DTSTAMP:20260425T150558Z
DTSTART:20150526T170000Z
DTEND:20150526T180000Z
LOCATION:
SUMMARY:Meet a Poet
DESCRIPTION:Vivek Narayanan was born in India in to Tamil-speaking parents 
 and grew up in Zambia. He did undergraduate and graduate study (in cultural
  anthropology and creative writing) in the United States\,  taught at the U
 niversity of Kwazulu-Natal in Durban\,  South Africa\,  and moved back to I
 ndia in 2000.  His two[..]\nhttps://indiaunlimited.se/events/meet-a-poet/
URL:https://indiaunlimited.se/events/meet-a-poet/
END:VEVENT
END:VCALENDAR