BEGIN:VCALENDAR
VERSION:2.0
PRODID:-//eventon.com NONSGML v1.0//EN
CALSCALE:GREGORIAN
METHOD:PUBLISH
BEGIN:VEVENT
UID:69ecd82fb1c18
DTSTAMP:20260425T150519Z
DTSTART:20150601T150000Z
DTEND:20150601T163000Z
LOCATION:
SUMMARY:Powering India: smart grid\,  renewable energy
DESCRIPTION:India has the fifth largest power generation portfolio worldwid
 e with a power generation capacity of 245 GW. Economic growth\,  increasing
  prosperity\,  a growing rate of urbanization and rising per capita energy 
 consumption has widened access to energy in the country. Wind energy is the
  largest renewable energy source in India.[..]\nhttps://indiaunlimited.se/e
 vents/powering-india-smart-grid-renewable-energy/
URL:https://indiaunlimited.se/events/powering-india-smart-grid-renewable-energy/
END:VEVENT
END:VCALENDAR