BEGIN:VCALENDAR
VERSION:2.0
PRODID:-//eventon.com NONSGML v1.0//EN
CALSCALE:GREGORIAN
METHOD:PUBLISH
BEGIN:VEVENT
UID:69ecd7ef1871d
DTSTAMP:20260425T150415Z
DTSTART:20150601T083000Z
DTEND:20150601T100000Z
LOCATION:
SUMMARY:Smart cities: Urban mobility & Management
DESCRIPTION:Current global urbanisation trends will result in 70% of the po
 pulation living in cities by 2050\,  and given the increasing social and en
 vironmental challenges\,  it is imperative that we learn how best to develo
 p\,  govern and manage integrated and sustainable cities. The new Indian go
 vernment 2014 launched the initiative to[..]\nhttps://indiaunlimited.se/eve
 nts/the-smart-digital-sustainable-safe-city/
URL:https://indiaunlimited.se/events/the-smart-digital-sustainable-safe-city/
END:VEVENT
END:VCALENDAR