BEGIN:VCALENDAR
VERSION:2.0
PRODID:-//eventon.com NONSGML v1.0//EN
CALSCALE:GREGORIAN
METHOD:PUBLISH
BEGIN:VEVENT
UID:69ecd858d692e
DTSTAMP:20260425T150600Z
DTSTART:20150602T143000Z
DTEND:20150602T160000Z
LOCATION:
SUMMARY:Make in India and Transfer of Technology
DESCRIPTION:Since the launch of ‘Make in India’ programme in September 
 2014\,   Prime Minister Modi’s  government has taken multiple steps t
 o make Indian industry more conducive to foreign investment\,  and to encou
 rage technology sharing between international OEMs and Indian companies. Th
 e purpose is to create job opportunities\,  provide a boost to the manufact
 uring[..]\nhttps://indiaunlimited.se/events/seminar-technology-collaboratio
 n-and-innovation-in-defense-and-security/
URL:https://indiaunlimited.se/events/seminar-technology-collaboration-and-innovation-in-defense-and-security/
END:VEVENT
END:VCALENDAR