BEGIN:VCALENDAR
VERSION:2.0
PRODID:-//eventon.com NONSGML v1.0//EN
CALSCALE:GREGORIAN
METHOD:PUBLISH
BEGIN:VEVENT
UID:69ecd75c50f59
DTSTAMP:20260425T150148Z
DTSTART:20150525T083000Z
DTEND:20150525T100000Z
LOCATION:
SUMMARY:Next Generation textiles and sustainable global value chains
DESCRIPTION:Today Global value chains are built on sustainability\,  next g
 eneration textiles and materials\,  innovative solutions that mix re-use an
 d re-creation. What new possibilities and opportunities are emerging? Can I
 ndian and Swedish global companies collaborate to become leaders in innovat
 ive use of materials\,  of production and of marketing to promote smart[..]
 \nhttps://indiaunlimited.se/events/innovation-leadership-in-sustainability/
URL:https://indiaunlimited.se/events/innovation-leadership-in-sustainability/
END:VEVENT
END:VCALENDAR