BEGIN:VCALENDAR
VERSION:2.0
PRODID:-//eventon.com NONSGML v1.0//EN
CALSCALE:GREGORIAN
METHOD:PUBLISH
BEGIN:VEVENT
UID:69ecd7c05c7ae
DTSTAMP:20260425T150328Z
DTSTART:20150525
DTEND:20150526
LOCATION:
SUMMARY:Indian Food Festival
DESCRIPTION:Indian food festival will showcase chef Anurudh Khanna\,  execu
 tive chef de cuisine at Starwood hotels and resorts. Passionate and profici
 ent in his field\,  Chef Anurudh Khanna hails from Capital City of India\,
   Delhi which itself is very famous for its rich\,  Old traditional influen
 tial food culture from Mughals & Nawabs of[..]\nhttps://indiaunlimited.se/e
 vents/indian-food-festival/
URL:https://indiaunlimited.se/events/indian-food-festival/
END:VEVENT
END:VCALENDAR