BEGIN:VCALENDAR
VERSION:2.0
PRODID:-//eventon.com NONSGML v1.0//EN
CALSCALE:GREGORIAN
METHOD:PUBLISH
BEGIN:VEVENT
UID:69ecd7abb5089
DTSTAMP:20260425T150307Z
DTSTART:20150523
DTEND:20150524
LOCATION:
SUMMARY:Namaste Stockholm - India Day
DESCRIPTION:Yoga We invite all the different Yoga centers and Yoga studios 
 \, their teachers and students\,  in fact all Stockholmers\,  children & ad
 ults to come and participate in the grand Yoga Event. It is amazing how Yog
 a has become mainstream in Sweden. We will this day highlight and inform St
 ockholmers /[..]\nhttps://indiaunlimited.se/events/namaste-stockholm-india-
 day/
URL:https://indiaunlimited.se/events/namaste-stockholm-india-day/
END:VEVENT
END:VCALENDAR