BEGIN:VCALENDAR
VERSION:2.0
PRODID:-//eventon.com NONSGML v1.0//EN
CALSCALE:GREGORIAN
METHOD:PUBLISH
BEGIN:VEVENT
UID:69ecd7ac37279
DTSTAMP:20260425T150308Z
DTSTART:20150603T150000Z
DTEND:20150603T163000Z
LOCATION:
SUMMARY:Making in India – Sustainable Swedish Strategies in India
DESCRIPTION:Strategies for India. Investing for the long haul – Swedish b
 usiness in India. How to succeed in India. What strategies do Swedish comp
 anies deploy in India. What are the expectations and the successful routes?
  Partnerships\,  own production/development etc. Being there for a long tim
 e. (Challenges – legal\,  technical\,  access\,  etc). Logistics[..]\nhtt
 ps://indiaunlimited.se/events/making-in-india-sustainable-swedish-strategie
 s-in-india/
URL:https://indiaunlimited.se/events/making-in-india-sustainable-swedish-strategies-in-india/
END:VEVENT
END:VCALENDAR