BEGIN:VCALENDAR
VERSION:2.0
PRODID:-//eventon.com NONSGML v1.0//EN
CALSCALE:GREGORIAN
METHOD:PUBLISH
BEGIN:VEVENT
UID:69ecd75a1218b
DTSTAMP:20260425T150146Z
DTSTART:20150601T103000Z
DTEND:20150601T120000Z
LOCATION:
SUMMARY:ICT Digital India – SMAC
DESCRIPTION:As a leading innovator in the sectors of IT\,  Sweden has much 
 to offer to India as a partner in co-developing technologies\,  processes a
 nd equipment in ICT. A Digital India means harnessing IT to deal with the m
 ultiple challenges of sustainable growth. Can Sweden and India create strat
 egic partnerships to[..]\nhttps://indiaunlimited.se/events/ict-digital-indi
 a-smac/
URL:https://indiaunlimited.se/events/ict-digital-india-smac/
END:VEVENT
END:VCALENDAR