BEGIN:VCALENDAR
VERSION:2.0
PRODID:-//eventon.com NONSGML v1.0//EN
CALSCALE:GREGORIAN
METHOD:PUBLISH
BEGIN:VEVENT
UID:69ecd8b9aac2f
DTSTAMP:20260425T150737Z
DTSTART:20150601T130000Z
DTEND:20150601T143000Z
LOCATION:
SUMMARY:R&D Innovation – Sweden and India Partners for Solving Global Issues
DESCRIPTION:The spending on R&D in India is mostly done by the government\,
   although the private sector is now taking large strides to fund such init
 iatives. Speakers will discuss the status and potential of R&D in  India a
 nd Sweden and how Indian scientific resources can be combined with the Swed
 ish strength[..]\nhttps://indiaunlimited.se/events/rd-innovation-sweden-and
 -india-partners-for-solving-global-issues/
URL:https://indiaunlimited.se/events/rd-innovation-sweden-and-india-partners-for-solving-global-issues/
END:VEVENT
END:VCALENDAR