BEGIN:VCALENDAR
VERSION:2.0
PRODID:-//eventon.com NONSGML v1.0//EN
CALSCALE:GREGORIAN
METHOD:PUBLISH
BEGIN:VEVENT
UID:69ecd8ba4c11b
DTSTAMP:20260425T150738Z
DTSTART:20150525T103000Z
DTEND:20150525T133000Z
LOCATION:
SUMMARY:Travel India & Sweden: For all Seasons and Reasons
DESCRIPTION:The number of Indian tourists travelling to Sweden has increase
 d rapidly as they have become aware of its many attractions. The interest i
 n India as a destination is increasing\,  but Swedish tourists are still go
 ing mainly to select winter destinations. The potential is huge for more to
 urism in both directions.[..]\nhttps://indiaunlimited.se/events/travel-indi
 a-sweden/
URL:https://indiaunlimited.se/events/travel-india-sweden/
END:VEVENT
END:VCALENDAR