BEGIN:VCALENDAR
VERSION:2.0
PRODID:-//eventon.com NONSGML v1.0//EN
CALSCALE:GREGORIAN
METHOD:PUBLISH
BEGIN:VEVENT
UID:69ecd807a375e
DTSTAMP:20260425T150439Z
DTSTART:20150525T140000Z
DTEND:20150525T160000Z
LOCATION:
SUMMARY:Gender & Diversity - A key to success
DESCRIPTION:India companies have been very successful in managing religious
 / ethnic/ regional diversity and an inclusive approach. Sweden has been a l
 eader in gender parity\,  LGBT rights and opportunities for disabled people
 .  Can we find ways to promote diverse leadership\,  diverse companies an
 d organizations by exchanging experiences between Sweden and India?[..]\nht
 tps://indiaunlimited.se/events/diversity-a-key-to-success/
URL:https://indiaunlimited.se/events/diversity-a-key-to-success/
END:VEVENT
END:VCALENDAR