BEGIN:VCALENDAR
VERSION:2.0
PRODID:-//eventon.com NONSGML v1.0//EN
CALSCALE:GREGORIAN
METHOD:PUBLISH
BEGIN:VEVENT
UID:69ecd8b9ab0d9
DTSTAMP:20260425T150737Z
DTSTART:20150601T150000Z
DTEND:20150601T163000Z
LOCATION:
SUMMARY:Life Science & Innovation
DESCRIPTION:Sweden and India have a long tradition of cooperation in the fi
 eld of health. From a cooperation based on development aid\,  the collabora
 tion has evolved to a more dynamic and mutually beneficial alliance. Sweden
  has a lot to offer India when it comes to organizing healthcare be it crea
 ting a[..]\nhttps://indiaunlimited.se/events/life-science-innovation/
URL:https://indiaunlimited.se/events/life-science-innovation/
END:VEVENT
END:VCALENDAR