BEGIN:VCALENDAR
VERSION:2.0
PRODID:-//eventon.com NONSGML v1.0//EN
CALSCALE:GREGORIAN
METHOD:PUBLISH
BEGIN:VEVENT
UID:69ecd85d26663
DTSTAMP:20260425T150605Z
DTSTART:20150509
DTEND:20150510
LOCATION:
SUMMARY:Photo exhibition
DESCRIPTION:During the first day of the film festival we will be privileged
  to see an incredible photo exhibition of tigers photographed by Babi Nobis
 . He is a wildlife photographer based in Kolkata\,  India. After 30 years o
 n the safari in both Africa and India he has put together an incredible[..]
 \nhttps://indiaunlimited.se/events/photo-exhibition-2/
URL:https://indiaunlimited.se/events/photo-exhibition-2/
END:VEVENT
END:VCALENDAR