BEGIN:VCALENDAR
VERSION:2.0
PRODID:-//eventon.com NONSGML v1.0//EN
CALSCALE:GREGORIAN
METHOD:PUBLISH
BEGIN:VEVENT
UID:69ecd75a145f8
DTSTAMP:20260425T150146Z
DTSTART:20150507
DTEND:20150508
LOCATION:
SUMMARY:Second Cinema Indien
DESCRIPTION:India Unlimited 2015 kicks off with the launch of the second In
 dian film festival\,  Cinema Indien/Indian Cinemas\,  held in collaboration
  with SF BIO it will take place at SF Sture\,  Stockholm from the 7th-10th 
 of May with the support of the Indian National Film Development Corporation
 . Covering different genres\,  this[..]\nhttps://indiaunlimited.se/events/i
 ndian-film-festival/
URL:https://indiaunlimited.se/events/indian-film-festival/
END:VEVENT
END:VCALENDAR